BEGIN:VCALENDAR
VERSION:2.0
PRODID:-//193.239.44.119//NONSGML kigkonsult.se iCalcreator 2.20//
CALSCALE:GREGORIAN
METHOD:PUBLISH
X-WR-TIMEZONE:Europe/Warsaw
BEGIN:VEVENT
UID:event2376@Parafia Rzymskokatolicka Najświętszego Serca Jezusowego w Łęc
 zu - Salezjanie
DTSTAMP:20260421T082542Z
CATEGORIES:Msza Święta
DESCRIPTION:+ Stefan Czarnecki - Msza święta gregoriańska (11)\nKategoria: 
 Msza Święta\nLink: https://lecze-salezjanie.pl/index.php?option=com_jem&vi
 ew=event&id=2376:stefan-czarnecki-msza-swieta-gregorianska-11\n
DTSTART;TZID=Europe/Warsaw:20240911T180000
DTEND;TZID=Europe/Warsaw:20240911T180000
LOCATION:Kościół Najświętszego Serca Jezusowego w Łęczu\,Łęcze 48\,Łęcze
SUMMARY:+ Stefan Czarnecki - Msza święta gregoriańska (11)
URL:https://lecze-salezjanie.pl/index.php?option=com_jem&view=event&id=2376
 :stefan-czarnecki-msza-swieta-gregorianska-11
END:VEVENT
END:VCALENDAR