BEGIN:VCALENDAR
VERSION:2.0
PRODID:-//193.239.44.119//NONSGML kigkonsult.se iCalcreator 2.20//
CALSCALE:GREGORIAN
METHOD:PUBLISH
X-WR-TIMEZONE:Europe/Warsaw
BEGIN:VEVENT
UID:event3758@Parafia Rzymskokatolicka Najświętszego Serca Jezusowego w Łęc
 zu - Salezjanie
DTSTAMP:20260421T015148Z
CATEGORIES:Msza Święta
DESCRIPTION:+ Jerzy Biernacki\, córka Danuta\, bracia Jan i Henryk oraz rod
 zice z obojga stron\nKategoria: Msza Święta\nLink: https://lecze-salezjani
 e.pl/index.php?option=com_jem&view=event&id=3758:jerzy-biernacki-corka-dan
 uta-bracia-jan-i-henryk-oraz-rodzice-z-obojga-stron\n
DTSTART;TZID=Europe/Warsaw:20260422T170000
DTEND;TZID=Europe/Warsaw:20260422T170000
LOCATION:Kościół Najświętszego Serca Jezusowego w Łęczu\,Łęcze 48\,Łęcze
SUMMARY:+ Jerzy Biernacki\, córka Danuta\, bracia Jan i Henryk oraz rodzice
  z obojga stron
URL:https://lecze-salezjanie.pl/index.php?option=com_jem&view=event&id=3758
 :jerzy-biernacki-corka-danuta-bracia-jan-i-henryk-oraz-rodzice-z-obojga-st
 ron
END:VEVENT
END:VCALENDAR