BEGIN:VCALENDAR
VERSION:2.0
PRODID:-//193.239.44.119//NONSGML kigkonsult.se iCalcreator 2.20//
CALSCALE:GREGORIAN
METHOD:PUBLISH
X-WR-TIMEZONE:Europe/Warsaw
BEGIN:VEVENT
UID:event3784@Parafia Rzymskokatolicka Najświętszego Serca Jezusowego w Łęc
 zu - Salezjanie
DTSTAMP:20260421T014502Z
CATEGORIES:Msza Święta
DESCRIPTION:+ Bertrand (9 Msza Gregoriańska)\nKategoria: Msza Święta\nLink:
  https://lecze-salezjanie.pl/index.php?option=com_jem&view=event&id=3784:b
 ertrand-9-msza-gregorianska\n
DTSTART;TZID=Europe/Warsaw:20260421T170000
DTEND;TZID=Europe/Warsaw:20260421T170000
LOCATION:Kościół Maryi Wspomożycielki Wiernych w Suchaczu\,Kielecka 12B\,Su
 chacz
SUMMARY:+ Bertrand (9 Msza Gregoriańska)
URL:https://lecze-salezjanie.pl/index.php?option=com_jem&view=event&id=3784
 :bertrand-9-msza-gregorianska
END:VEVENT
END:VCALENDAR