BEGIN:VCALENDAR
VERSION:2.0
PRODID:-//193.239.44.119//NONSGML kigkonsult.se iCalcreator 2.20//
CALSCALE:GREGORIAN
METHOD:PUBLISH
X-WR-TIMEZONE:Europe/Warsaw
BEGIN:VEVENT
UID:event3797@Parafia Rzymskokatolicka Najświętszego Serca Jezusowego w Łęc
 zu - Salezjanie
DTSTAMP:20260421T014718Z
CATEGORIES:Msza Święta
DESCRIPTION:Za żywych i zmarłych parafian\nKategoria: Msza Święta\nLink: ht
 tps://lecze-salezjanie.pl/index.php?option=com_jem&view=event&id=3797:za-z
 ywych-i-zmarlych-parafian\n
DTSTART;TZID=Europe/Warsaw:20260421T170000
DTEND;TZID=Europe/Warsaw:20260421T170000
LOCATION:Kościół Maryi Wspomożycielki Wiernych w Suchaczu\,Kielecka 12B\,Su
 chacz
SUMMARY:Za żywych i zmarłych parafian
URL:https://lecze-salezjanie.pl/index.php?option=com_jem&view=event&id=3797
 :za-zywych-i-zmarlych-parafian
END:VEVENT
END:VCALENDAR