BEGIN:VCALENDAR
VERSION:2.0
PRODID:-//193.239.44.119//NONSGML kigkonsult.se iCalcreator 2.20//
CALSCALE:GREGORIAN
METHOD:PUBLISH
X-WR-TIMEZONE:Europe/Warsaw
BEGIN:VEVENT
UID:event550@Parafia Rzymskokatolicka Najświętszego Serca Jezusowego w Łęcz
 u - Salezjanie
DTSTAMP:20260420T014510Z
CATEGORIES:Spotkanie
DESCRIPTION:Dzieci przygotowujące się do przyjęcia Pierwszej Komunii Święte
 j - poświęcenie medalików (Po Mszy świętej spotkanie)\nKategoria: Spotkani
 e\nLink: https://lecze-salezjanie.pl/index.php?option=com_jem&view=event&i
 d=550:dzieci-przygotowujace-sie-do-przyjecia-pierwszej-komunii-swietej-pos
 wiecenie-medalikow-po-mszy-swietej-spotkanie\n
DTSTART;TZID=Europe/Warsaw:20220501T120000
DTEND;TZID=Europe/Warsaw:20220501T120000
LOCATION:Kościół Najświętszego Serca Jezusowego w Łęczu\,Łęcze 48\,Łęcze\,P
 oland
SUMMARY:Dzieci przygotowujące się do przyjęcia Pierwszej Komunii Świętej - 
 poświęcenie medalików (Po Mszy świętej spotkanie)
URL:https://lecze-salezjanie.pl/index.php?option=com_jem&view=event&id=550:
 dzieci-przygotowujace-sie-do-przyjecia-pierwszej-komunii-swietej-poswiecen
 ie-medalikow-po-mszy-swietej-spotkanie
END:VEVENT
BEGIN:VEVENT
UID:event549@Parafia Rzymskokatolicka Najświętszego Serca Jezusowego w Łęcz
 u - Salezjanie
DTSTAMP:20260420T014510Z
CATEGORIES:Spotkanie
DESCRIPTION:Zbiórka Ministrancka\nKategoria: Spotkanie\nLink: https://lecze
 -salezjanie.pl/index.php?option=com_jem&view=event&id=549:zbiorka-ministra
 ncka\n
DTSTART;TZID=Europe/Warsaw:20220423T120000
DTEND;TZID=Europe/Warsaw:20220423T120000
LOCATION:Kościół Najświętszego Serca Jezusowego w Łęczu\,Łęcze 48\,Łęcze\,P
 oland
SUMMARY:Zbiórka Ministrancka
URL:https://lecze-salezjanie.pl/index.php?option=com_jem&view=event&id=549:
 zbiorka-ministrancka
END:VEVENT
BEGIN:VEVENT
UID:event558@Parafia Rzymskokatolicka Najświętszego Serca Jezusowego w Łęcz
 u - Salezjanie
DTSTAMP:20260420T014510Z
CATEGORIES:Spotkanie
DESCRIPTION:Próba przed Pierwszą Komunią świętą\nKategoria: Spotkanie\nLink
 : https://lecze-salezjanie.pl/index.php?option=com_jem&view=event&id=558:p
 roba-przed-pierwsza-komunia-swieta-1\n
DTSTART;TZID=Europe/Warsaw:20220505T173000
DTEND;TZID=Europe/Warsaw:20220505T173000
LOCATION:Kościół Maryi Wspomożycielki Wiernych w Suchaczu\,Kielecka 12B\,Su
 chacz\,Poland
SUMMARY:Próba przed Pierwszą Komunią świętą
URL:https://lecze-salezjanie.pl/index.php?option=com_jem&view=event&id=558:
 proba-przed-pierwsza-komunia-swieta-1
END:VEVENT
BEGIN:VEVENT
UID:event193@Parafia Rzymskokatolicka Najświętszego Serca Jezusowego w Łęcz
 u - Salezjanie
DTSTAMP:20260420T014510Z
CATEGORIES:Spotkanie
DESCRIPTION:Próba przed Pierwszą Komunią świętą\nKategoria: Spotkanie\nLink
 : https://lecze-salezjanie.pl/index.php?option=com_jem&view=event&id=193:p
 roba-przed-pierwsza-komunia-swieta\n
DTSTART;TZID=Europe/Warsaw:20220504T183000
DTEND;TZID=Europe/Warsaw:20220504T183000
LOCATION:Kościół Najświętszego Serca Jezusowego w Łęczu\,Łęcze 48\,Łęcze\,P
 oland
SUMMARY:Próba przed Pierwszą Komunią świętą
URL:https://lecze-salezjanie.pl/index.php?option=com_jem&view=event&id=193:
 proba-przed-pierwsza-komunia-swieta
END:VEVENT
END:VCALENDAR