BEGIN:VCALENDAR
VERSION:2.0
PRODID:-//193.239.44.119//NONSGML kigkonsult.se iCalcreator 2.20//
CALSCALE:GREGORIAN
METHOD:PUBLISH
X-WR-TIMEZONE:Europe/Warsaw
BEGIN:VEVENT
UID:event105@Parafia Rzymskokatolicka Najświętszego Serca Jezusowego w Łęcz
 u - Salezjanie
DTSTAMP:20260420T052653Z
CATEGORIES:Msza Święta
DESCRIPTION:Dziękczynna\, z prośbą o dary Bożej Miłości\, zdrowie i nieusta
 nną opiekę Matki Bożej dla Elżbiety Andrukiewicz\nKategoria: Msza Święta\n
 Link: https://lecze-salezjanie.pl/index.php?option=com_jem&view=event&id=1
 05:dziekczynna-z-prosba-o-dary-bozej-milosci-zdrowie-i-nieustanna-opieke-m
 atki-bozej-dla-elzbiety-andrukiewicz\n
DTSTART;TZID=Europe/Warsaw:20220225T180000
DTEND;TZID=Europe/Warsaw:20220225T180000
LOCATION:Kościół Najświętszego Serca Jezusowego w Łęczu\,Łęcze 48\,Łęcze
SUMMARY:Dziękczynna\, z prośbą o dary Bożej Miłości\, zdrowie i nieustanną 
 opiekę Matki Bożej dla Elżbiety Andrukiewicz
URL:https://lecze-salezjanie.pl/index.php?option=com_jem&view=event&id=105:
 dziekczynna-z-prosba-o-dary-bozej-milosci-zdrowie-i-nieustanna-opieke-matk
 i-bozej-dla-elzbiety-andrukiewicz
END:VEVENT
END:VCALENDAR