BEGIN:VCALENDAR
VERSION:2.0
PRODID:-//193.239.44.119//NONSGML kigkonsult.se iCalcreator 2.20//
CALSCALE:GREGORIAN
METHOD:PUBLISH
X-WR-TIMEZONE:Europe/Warsaw
BEGIN:VEVENT
UID:event109@Parafia Rzymskokatolicka Najświętszego Serca Jezusowego w Łęcz
 u - Salezjanie
DTSTAMP:20260420T052749Z
CATEGORIES:Msza Święta
DESCRIPTION:O szczęśliwą operację\, zdrowie\, Boże Błogosławieństwo i opiek
 ę Matki Bożej dla Leokadii\nKategoria: Msza Święta\nLink: https://lecze-sa
 lezjanie.pl/index.php?option=com_jem&view=event&id=109:o-szczesliwa-operac
 je-zdrowie-boze-blogoslawienstwo-i-opieke-matki-bozej-dla-leokadii\n
DTSTART;TZID=Europe/Warsaw:20220227T120000
DTEND;TZID=Europe/Warsaw:20220227T120000
LOCATION:Kościół Najświętszego Serca Jezusowego w Łęczu\,Łęcze 48\,Łęcze
SUMMARY:O szczęśliwą operację\, zdrowie\, Boże Błogosławieństwo i opiekę Ma
 tki Bożej dla Leokadii
URL:https://lecze-salezjanie.pl/index.php?option=com_jem&view=event&id=109:
 o-szczesliwa-operacje-zdrowie-boze-blogoslawienstwo-i-opieke-matki-bozej-d
 la-leokadii
END:VEVENT
END:VCALENDAR