BEGIN:VCALENDAR
VERSION:2.0
PRODID:-//193.239.44.119//NONSGML kigkonsult.se iCalcreator 2.20//
CALSCALE:GREGORIAN
METHOD:PUBLISH
X-WR-TIMEZONE:Europe/Warsaw
BEGIN:VEVENT
UID:event117@Parafia Rzymskokatolicka Najświętszego Serca Jezusowego w Łęcz
 u - Salezjanie
DTSTAMP:20260420T034547Z
CATEGORIES:Msza Święta
DESCRIPTION:O dar pokoju i zgody w naszej Ojczyźnie i w Ukrainie\nKategoria
 : Msza Święta\nLink: https://lecze-salezjanie.pl/index.php?option=com_jem&
 view=event&id=117:o-dar-pokoju-i-zgody-w-naszej-ojczyznie-i-w-ukrainie\n
DTSTART;TZID=Europe/Warsaw:20220305T180000
DTEND;TZID=Europe/Warsaw:20220305T180000
LOCATION:Kościół Najświętszego Serca Jezusowego w Łęczu\,Łęcze 48\,Łęcze
SUMMARY:O dar pokoju i zgody w naszej Ojczyźnie i w Ukrainie
URL:https://lecze-salezjanie.pl/index.php?option=com_jem&view=event&id=117:
 o-dar-pokoju-i-zgody-w-naszej-ojczyznie-i-w-ukrainie
END:VEVENT
END:VCALENDAR