BEGIN:VCALENDAR
VERSION:2.0
PRODID:-//193.239.44.119//NONSGML kigkonsult.se iCalcreator 2.20//
CALSCALE:GREGORIAN
METHOD:PUBLISH
X-WR-TIMEZONE:Europe/Warsaw
BEGIN:VEVENT
UID:event11@Parafia Rzymskokatolicka Najświętszego Serca Jezusowego w Łęczu
  - Salezjanie
DTSTAMP:20260420T065052Z
CATEGORIES:Msza Święta
DESCRIPTION:+ Genowefa Piotrowska - w 1 rocznicę śmierci\nKategoria: Msza Ś
 więta\nLink: https://lecze-salezjanie.pl/index.php?option=com_jem&view=eve
 nt&id=11:genowefa-piotrowska-w-1-rocznice-smierci\n
DTSTART;TZID=Europe/Warsaw:20220101T090000
DTEND;TZID=Europe/Warsaw:20220101T090000
LOCATION:Kościół Maryi Wspomożycielki Wiernych w Suchaczu\,Kielecka 12B\,Su
 chacz
SUMMARY:+ Genowefa Piotrowska - w 1 rocznicę śmierci
URL:https://lecze-salezjanie.pl/index.php?option=com_jem&view=event&id=11:g
 enowefa-piotrowska-w-1-rocznice-smierci
END:VEVENT
END:VCALENDAR