BEGIN:VCALENDAR
VERSION:2.0
PRODID:-//193.239.44.119//NONSGML kigkonsult.se iCalcreator 2.20//
CALSCALE:GREGORIAN
METHOD:PUBLISH
X-WR-TIMEZONE:Europe/Warsaw
BEGIN:VEVENT
UID:event123@Parafia Rzymskokatolicka Najświętszego Serca Jezusowego w Łęcz
 u - Salezjanie
DTSTAMP:20260420T034635Z
CATEGORIES:Msza Święta
DESCRIPTION:+ Jan Osmański - w 25 rocznicę śmierci\, zmarłych rodziców Gruc
 halskich i Osmańskich\nKategoria: Msza Święta\nLink: https://lecze-salezja
 nie.pl/index.php?option=com_jem&view=event&id=123:jan-osmanski-w-25-roczni
 ce-smierci-zmarlych-rodzicow-gruchalskich-i-osmanskich\n
DTSTART;TZID=Europe/Warsaw:20220309T180000
DTEND;TZID=Europe/Warsaw:20220309T180000
LOCATION:Kościół Najświętszego Serca Jezusowego w Łęczu\,Łęcze 48\,Łęcze
SUMMARY:+ Jan Osmański - w 25 rocznicę śmierci\, zmarłych rodziców Gruchals
 kich i Osmańskich
URL:https://lecze-salezjanie.pl/index.php?option=com_jem&view=event&id=123:
 jan-osmanski-w-25-rocznice-smierci-zmarlych-rodzicow-gruchalskich-i-osmans
 kich
END:VEVENT
END:VCALENDAR