BEGIN:VCALENDAR
VERSION:2.0
PRODID:-//193.239.44.119//NONSGML kigkonsult.se iCalcreator 2.20//
CALSCALE:GREGORIAN
METHOD:PUBLISH
X-WR-TIMEZONE:Europe/Warsaw
BEGIN:VEVENT
UID:event127@Parafia Rzymskokatolicka Najświętszego Serca Jezusowego w Łęcz
 u - Salezjanie
DTSTAMP:20260420T034635Z
CATEGORIES:Msza Święta
DESCRIPTION:O potrzebne łaski dla syna Wiktora i powodzenie w egzaminach\nK
 ategoria: Msza Święta\nLink: https://lecze-salezjanie.pl/index.php?option=
 com_jem&view=event&id=127:o-potrzebne-laski-dla-syna-wiktora-i-powodzenie-
 w-egzaminach\n
DTSTART;TZID=Europe/Warsaw:20220312T180000
DTEND;TZID=Europe/Warsaw:20220312T180000
LOCATION:Kościół Najświętszego Serca Jezusowego w Łęczu\,Łęcze 48\,Łęcze
SUMMARY:O potrzebne łaski dla syna Wiktora i powodzenie w egzaminach
URL:https://lecze-salezjanie.pl/index.php?option=com_jem&view=event&id=127:
 o-potrzebne-laski-dla-syna-wiktora-i-powodzenie-w-egzaminach
END:VEVENT
END:VCALENDAR