BEGIN:VCALENDAR
VERSION:2.0
PRODID:-//193.239.44.119//NONSGML kigkonsult.se iCalcreator 2.20//
CALSCALE:GREGORIAN
METHOD:PUBLISH
X-WR-TIMEZONE:Europe/Warsaw
BEGIN:VEVENT
UID:event129@Parafia Rzymskokatolicka Najświętszego Serca Jezusowego w Łęcz
 u - Salezjanie
DTSTAMP:20260420T034515Z
CATEGORIES:Msza Święta
DESCRIPTION:+ Józef i Jadwiga Straszkiewicz\, Henryk i Krystyna Franczak\nK
 ategoria: Msza Święta\nLink: https://lecze-salezjanie.pl/index.php?option=
 com_jem&view=event&id=129:jozef-i-jadwiga-straszkiewicz-henryk-i-krystyna-
 franczak\n
DTSTART;TZID=Europe/Warsaw:20220313T120000
DTEND;TZID=Europe/Warsaw:20220313T120000
LOCATION:Kościół Najświętszego Serca Jezusowego w Łęczu\,Łęcze 48\,Łęcze
SUMMARY:+ Józef i Jadwiga Straszkiewicz\, Henryk i Krystyna Franczak
URL:https://lecze-salezjanie.pl/index.php?option=com_jem&view=event&id=129:
 jozef-i-jadwiga-straszkiewicz-henryk-i-krystyna-franczak
END:VEVENT
END:VCALENDAR