BEGIN:VCALENDAR
VERSION:2.0
PRODID:-//193.239.44.119//NONSGML kigkonsult.se iCalcreator 2.20//
CALSCALE:GREGORIAN
METHOD:PUBLISH
X-WR-TIMEZONE:Europe/Warsaw
BEGIN:VEVENT
UID:event12@Parafia Rzymskokatolicka Najświętszego Serca Jezusowego w Łęczu
  - Salezjanie
DTSTAMP:20260420T065536Z
CATEGORIES:Msza Święta
DESCRIPTION:+ Józef\, Jadwiga i zmarli z rodziny Kosznik\nKategoria: Msza Ś
 więta\nLink: https://lecze-salezjanie.pl/index.php?option=com_jem&view=eve
 nt&id=12:jozef-jadwiga-i-zmarli-z-rodziny-kosznik\n
DTSTART;TZID=Europe/Warsaw:20220102T090000
DTEND;TZID=Europe/Warsaw:20220102T090000
LOCATION:Kościół Maryi Wspomożycielki Wiernych w Suchaczu\,Kielecka 12B\,Su
 chacz
SUMMARY:+ Józef\, Jadwiga i zmarli z rodziny Kosznik
URL:https://lecze-salezjanie.pl/index.php?option=com_jem&view=event&id=12:j
 ozef-jadwiga-i-zmarli-z-rodziny-kosznik
END:VEVENT
END:VCALENDAR