BEGIN:VCALENDAR
VERSION:2.0
PRODID:-//193.239.44.119//NONSGML kigkonsult.se iCalcreator 2.20//
CALSCALE:GREGORIAN
METHOD:PUBLISH
X-WR-TIMEZONE:Europe/Warsaw
BEGIN:VEVENT
UID:event133@Parafia Rzymskokatolicka Najświętszego Serca Jezusowego w Łęcz
 u - Salezjanie
DTSTAMP:20260420T034250Z
CATEGORIES:Msza Święta
DESCRIPTION:+ Aleksandra Budzyńska - Msza święta Gregoriańska (16) \nKatego
 ria: Msza Święta\nLink: https://lecze-salezjanie.pl/index.php?option=com_j
 em&view=event&id=133:aleksandra-budzynska-msza-swieta-gregorianska-16\n
DTSTART;TZID=Europe/Warsaw:20220316T180000
DTEND;TZID=Europe/Warsaw:20220316T180000
LOCATION:Kościół Najświętszego Serca Jezusowego w Łęczu\,Łęcze 48\,Łęcze
SUMMARY:+ Aleksandra Budzyńska - Msza święta Gregoriańska (16) 
URL:https://lecze-salezjanie.pl/index.php?option=com_jem&view=event&id=133:
 aleksandra-budzynska-msza-swieta-gregorianska-16
END:VEVENT
END:VCALENDAR