BEGIN:VCALENDAR
VERSION:2.0
PRODID:-//193.239.44.119//NONSGML kigkonsult.se iCalcreator 2.20//
CALSCALE:GREGORIAN
METHOD:PUBLISH
X-WR-TIMEZONE:Europe/Warsaw
BEGIN:VEVENT
UID:event137@Parafia Rzymskokatolicka Najświętszego Serca Jezusowego w Łęcz
 u - Salezjanie
DTSTAMP:20260420T034708Z
CATEGORIES:Msza Święta
DESCRIPTION:Dziękczynna\, z prośbą o dary Bożej Miłości\, zdrowie i nieusta
 nną opiekę Matki Bożej dla Krystyny Wójcik z okazji urodzin\nKategoria: Ms
 za Święta\nLink: https://lecze-salezjanie.pl/index.php?option=com_jem&view
 =event&id=137:dziekczynna-z-prosba-o-dary-bozej-milosci-zdrowie-i-nieustan
 na-opieke-matki-bozej-dla-krystyny-wojcik-z-okazji-urodzin\n
DTSTART;TZID=Europe/Warsaw:20220318T180000
DTEND;TZID=Europe/Warsaw:20220318T180000
LOCATION:Kościół Najświętszego Serca Jezusowego w Łęczu\,Łęcze 48\,Łęcze
SUMMARY:Dziękczynna\, z prośbą o dary Bożej Miłości\, zdrowie i nieustanną 
 opiekę Matki Bożej dla Krystyny Wójcik z okazji urodzin
URL:https://lecze-salezjanie.pl/index.php?option=com_jem&view=event&id=137:
 dziekczynna-z-prosba-o-dary-bozej-milosci-zdrowie-i-nieustanna-opieke-matk
 i-bozej-dla-krystyny-wojcik-z-okazji-urodzin
END:VEVENT
END:VCALENDAR