BEGIN:VCALENDAR
VERSION:2.0
PRODID:-//193.239.44.119//NONSGML kigkonsult.se iCalcreator 2.20//
CALSCALE:GREGORIAN
METHOD:PUBLISH
X-WR-TIMEZONE:Europe/Warsaw
BEGIN:VEVENT
UID:event139@Parafia Rzymskokatolicka Najświętszego Serca Jezusowego w Łęcz
 u - Salezjanie
DTSTAMP:20260420T034635Z
CATEGORIES:Msza Święta
DESCRIPTION:+ Józef\, Wacław\, Henryk\, Sławomir i zmarli z rodziny\nKatego
 ria: Msza Święta\nLink: https://lecze-salezjanie.pl/index.php?option=com_j
 em&view=event&id=139:jozef-waclaw-henryk-slawomir-i-zmarli-z-rodziny\n
DTSTART;TZID=Europe/Warsaw:20220319T180000
DTEND;TZID=Europe/Warsaw:20220319T180000
LOCATION:Kościół Najświętszego Serca Jezusowego w Łęczu\,Łęcze 48\,Łęcze
SUMMARY:+ Józef\, Wacław\, Henryk\, Sławomir i zmarli z rodziny
URL:https://lecze-salezjanie.pl/index.php?option=com_jem&view=event&id=139:
 jozef-waclaw-henryk-slawomir-i-zmarli-z-rodziny
END:VEVENT
END:VCALENDAR