BEGIN:VCALENDAR
VERSION:2.0
PRODID:-//193.239.44.119//NONSGML kigkonsult.se iCalcreator 2.20//
CALSCALE:GREGORIAN
METHOD:PUBLISH
X-WR-TIMEZONE:Europe/Warsaw
BEGIN:VEVENT
UID:event13@Parafia Rzymskokatolicka Najświętszego Serca Jezusowego w Łęczu
  - Salezjanie
DTSTAMP:20260420T065107Z
CATEGORIES:Msza Święta
DESCRIPTION:+ Franciszek Huczek - w 4 rocznicę śmierci\nKategoria: Msza Świ
 ęta\nLink: https://lecze-salezjanie.pl/index.php?option=com_jem&view=event
 &id=13:franciszek-huczek-w-4-rocznice-smierci\n
DTSTART;TZID=Europe/Warsaw:20220102T103000
DTEND;TZID=Europe/Warsaw:20220102T103000
LOCATION:Kościół Maryi Wspomożycielki Wiernych w Suchaczu\,Kielecka 12B\,Su
 chacz
SUMMARY:+ Franciszek Huczek - w 4 rocznicę śmierci
URL:https://lecze-salezjanie.pl/index.php?option=com_jem&view=event&id=13:f
 ranciszek-huczek-w-4-rocznice-smierci
END:VEVENT
END:VCALENDAR