BEGIN:VCALENDAR
VERSION:2.0
PRODID:-//193.239.44.119//NONSGML kigkonsult.se iCalcreator 2.20//
CALSCALE:GREGORIAN
METHOD:PUBLISH
X-WR-TIMEZONE:Europe/Warsaw
BEGIN:VEVENT
UID:event140@Parafia Rzymskokatolicka Najświętszego Serca Jezusowego w Łęcz
 u - Salezjanie
DTSTAMP:20260420T034547Z
CATEGORIES:Msza Święta
DESCRIPTION:+ Stanisław i Janina\, zmarli z rodziny Woś\, Jadwiga i Józef W
 iśniewscy\nKategoria: Msza Święta\nLink: https://lecze-salezjanie.pl/index
 .php?option=com_jem&view=event&id=140:stanislaw-i-janina-zmarli-z-rodziny-
 wos-jadwiga-i-jozef-wisniewscy\n
DTSTART;TZID=Europe/Warsaw:20220320T090000
DTEND;TZID=Europe/Warsaw:20220320T090000
LOCATION:Kościół Najświętszego Serca Jezusowego w Łęczu\,Łęcze 48\,Łęcze
SUMMARY:+ Stanisław i Janina\, zmarli z rodziny Woś\, Jadwiga i Józef Wiśni
 ewscy
URL:https://lecze-salezjanie.pl/index.php?option=com_jem&view=event&id=140:
 stanislaw-i-janina-zmarli-z-rodziny-wos-jadwiga-i-jozef-wisniewscy
END:VEVENT
END:VCALENDAR