BEGIN:VCALENDAR
VERSION:2.0
PRODID:-//193.239.44.119//NONSGML kigkonsult.se iCalcreator 2.20//
CALSCALE:GREGORIAN
METHOD:PUBLISH
X-WR-TIMEZONE:Europe/Warsaw
BEGIN:VEVENT
UID:event149@Parafia Rzymskokatolicka Najświętszego Serca Jezusowego w Łęcz
 u - Salezjanie
DTSTAMP:20260420T034610Z
CATEGORIES:Msza Święta
DESCRIPTION:O zdrowie\, Boże Błogosławieństwo\, opiekę Matki Bożej dla Gabr
 ieli\, Oliwii i Laury\nKategoria: Msza Święta\nLink: https://lecze-salezja
 nie.pl/index.php?option=com_jem&view=event&id=149:o-zdrowie-boze-blogoslaw
 ienstwo-opieke-matki-bozej-dla-gabrieli-oliwii-i-laury\n
DTSTART;TZID=Europe/Warsaw:20220327T090000
DTEND;TZID=Europe/Warsaw:20220327T090000
LOCATION:Kościół Najświętszego Serca Jezusowego w Łęczu\,Łęcze 48\,Łęcze
SUMMARY:O zdrowie\, Boże Błogosławieństwo\, opiekę Matki Bożej dla Gabrieli
 \, Oliwii i Laury
URL:https://lecze-salezjanie.pl/index.php?option=com_jem&view=event&id=149:
 o-zdrowie-boze-blogoslawienstwo-opieke-matki-bozej-dla-gabrieli-oliwii-i-l
 aury
END:VEVENT
END:VCALENDAR