BEGIN:VCALENDAR
VERSION:2.0
PRODID:-//193.239.44.119//NONSGML kigkonsult.se iCalcreator 2.20//
CALSCALE:GREGORIAN
METHOD:PUBLISH
X-WR-TIMEZONE:Europe/Warsaw
BEGIN:VEVENT
UID:event152@Parafia Rzymskokatolicka Najświętszego Serca Jezusowego w Łęcz
 u - Salezjanie
DTSTAMP:20260420T034547Z
CATEGORIES:Msza Święta
DESCRIPTION:O dary Bożej Miłości\, ulgę w cierpieniu i opiekę Matki Bożej d
 la Ireny Andronik w 92 urodziny\nKategoria: Msza Święta\nLink: https://lec
 ze-salezjanie.pl/index.php?option=com_jem&view=event&id=152:o-dary-bozej-m
 ilosci-ulge-w-cierpieniu-i-opieke-matki-bozej-dla-ireny-andronik-w-92-urod
 ziny\n
DTSTART;TZID=Europe/Warsaw:20220328T180000
DTEND;TZID=Europe/Warsaw:20220328T180000
LOCATION:Kościół Najświętszego Serca Jezusowego w Łęczu\,Łęcze 48\,Łęcze
SUMMARY:O dary Bożej Miłości\, ulgę w cierpieniu i opiekę Matki Bożej dla I
 reny Andronik w 92 urodziny
URL:https://lecze-salezjanie.pl/index.php?option=com_jem&view=event&id=152:
 o-dary-bozej-milosci-ulge-w-cierpieniu-i-opieke-matki-bozej-dla-ireny-andr
 onik-w-92-urodziny
END:VEVENT
END:VCALENDAR