BEGIN:VCALENDAR
VERSION:2.0
PRODID:-//193.239.44.119//NONSGML kigkonsult.se iCalcreator 2.20//
CALSCALE:GREGORIAN
METHOD:PUBLISH
X-WR-TIMEZONE:Europe/Warsaw
BEGIN:VEVENT
UID:event155@Parafia Rzymskokatolicka Najświętszego Serca Jezusowego w Łęcz
 u - Salezjanie
DTSTAMP:20260420T034117Z
CATEGORIES:Msza Święta
DESCRIPTION:+ Julia Kalinowska i Zbigniew Kępka\nKategoria: Msza Święta\nLi
 nk: https://lecze-salezjanie.pl/index.php?option=com_jem&view=event&id=155
 :julia-kalinowska-i-zbigniew-kepka\n
DTSTART;TZID=Europe/Warsaw:20220330T180000
DTEND;TZID=Europe/Warsaw:20220330T180000
LOCATION:Kościół Najświętszego Serca Jezusowego w Łęczu\,Łęcze 48\,Łęcze
SUMMARY:+ Julia Kalinowska i Zbigniew Kępka
URL:https://lecze-salezjanie.pl/index.php?option=com_jem&view=event&id=155:
 julia-kalinowska-i-zbigniew-kepka
END:VEVENT
END:VCALENDAR