BEGIN:VCALENDAR
VERSION:2.0
PRODID:-//193.239.44.119//NONSGML kigkonsult.se iCalcreator 2.20//
CALSCALE:GREGORIAN
METHOD:PUBLISH
X-WR-TIMEZONE:Europe/Warsaw
BEGIN:VEVENT
UID:event159@Parafia Rzymskokatolicka Najświętszego Serca Jezusowego w Łęcz
 u - Salezjanie
DTSTAMP:20260420T034415Z
CATEGORIES:Msza Święta
DESCRIPTION:W intencji Koła Żywego Różańca\nKategoria: Msza Święta\nLink: h
 ttps://lecze-salezjanie.pl/index.php?option=com_jem&view=event&id=159:w-in
 tencji-kola-zywego-rozanca\n
DTSTART;TZID=Europe/Warsaw:20220402T100000
DTEND;TZID=Europe/Warsaw:20220402T100000
LOCATION:Kościół Najświętszego Serca Jezusowego w Łęczu\,Łęcze 48\,Łęcze
SUMMARY:W intencji Koła Żywego Różańca
URL:https://lecze-salezjanie.pl/index.php?option=com_jem&view=event&id=159:
 w-intencji-kola-zywego-rozanca
END:VEVENT
END:VCALENDAR