BEGIN:VCALENDAR
VERSION:2.0
PRODID:-//193.239.44.119//NONSGML kigkonsult.se iCalcreator 2.20//
CALSCALE:GREGORIAN
METHOD:PUBLISH
X-WR-TIMEZONE:Europe/Warsaw
BEGIN:VEVENT
UID:event160@Parafia Rzymskokatolicka Najświętszego Serca Jezusowego w Łęcz
 u - Salezjanie
DTSTAMP:20260420T034509Z
CATEGORIES:Msza Święta
DESCRIPTION:+ Czesław i Janina\, Edward i Elżbieta Bauszewscy\nKategoria: M
 sza Święta\nLink: https://lecze-salezjanie.pl/index.php?option=com_jem&vie
 w=event&id=160:w-intencji-kola-zywego-rozanca-1\n
DTSTART;TZID=Europe/Warsaw:20220402T180000
DTEND;TZID=Europe/Warsaw:20220402T180000
LOCATION:Kościół Najświętszego Serca Jezusowego w Łęczu\,Łęcze 48\,Łęcze
SUMMARY:+ Czesław i Janina\, Edward i Elżbieta Bauszewscy
URL:https://lecze-salezjanie.pl/index.php?option=com_jem&view=event&id=160:
 w-intencji-kola-zywego-rozanca-1
END:VEVENT
END:VCALENDAR