BEGIN:VCALENDAR
VERSION:2.0
PRODID:-//193.239.44.119//NONSGML kigkonsult.se iCalcreator 2.20//
CALSCALE:GREGORIAN
METHOD:PUBLISH
X-WR-TIMEZONE:Europe/Warsaw
BEGIN:VEVENT
UID:event164@Parafia Rzymskokatolicka Najświętszego Serca Jezusowego w Łęcz
 u - Salezjanie
DTSTAMP:20260420T014545Z
CATEGORIES:Msza Święta
DESCRIPTION:+ Kazimierz Soczkiewicz\nKategoria: Msza Święta\nLink: https://
 lecze-salezjanie.pl/index.php?option=com_jem&view=event&id=164:kazimierz-s
 oczkiewicz\n
DTSTART;TZID=Europe/Warsaw:20220404T180000
DTEND;TZID=Europe/Warsaw:20220404T180000
LOCATION:Kościół Najświętszego Serca Jezusowego w Łęczu\,Łęcze 48\,Łęcze
SUMMARY:+ Kazimierz Soczkiewicz
URL:https://lecze-salezjanie.pl/index.php?option=com_jem&view=event&id=164:
 kazimierz-soczkiewicz
END:VEVENT
END:VCALENDAR