BEGIN:VCALENDAR
VERSION:2.0
PRODID:-//193.239.44.119//NONSGML kigkonsult.se iCalcreator 2.20//
CALSCALE:GREGORIAN
METHOD:PUBLISH
X-WR-TIMEZONE:Europe/Warsaw
BEGIN:VEVENT
UID:event165@Parafia Rzymskokatolicka Najświętszego Serca Jezusowego w Łęcz
 u - Salezjanie
DTSTAMP:20260420T035458Z
CATEGORIES:Msza Święta
DESCRIPTION:O szczęśliwe rozwiązanie dla Katarzyny\, zdrowie dla jej dzieci
  i męża oraz opiekę Matki Bożej dla całej rodziny\nKategoria: Msza Święta
 \nLink: https://lecze-salezjanie.pl/index.php?option=com_jem&view=event&id
 =165:o-szczesliwe-rozwiazanie-dla-katarzyny-zdrowie-dla-jej-dzieci-i-meza-
 oraz-opieke-matki-bozej-dla-calej-rodziny\n
DTSTART;TZID=Europe/Warsaw:20220406T180000
DTEND;TZID=Europe/Warsaw:20220406T180000
LOCATION:Kościół Najświętszego Serca Jezusowego w Łęczu\,Łęcze 48\,Łęcze
SUMMARY:O szczęśliwe rozwiązanie dla Katarzyny\, zdrowie dla jej dzieci i m
 ęża oraz opiekę Matki Bożej dla całej rodziny
URL:https://lecze-salezjanie.pl/index.php?option=com_jem&view=event&id=165:
 o-szczesliwe-rozwiazanie-dla-katarzyny-zdrowie-dla-jej-dzieci-i-meza-oraz-
 opieke-matki-bozej-dla-calej-rodziny
END:VEVENT
END:VCALENDAR