BEGIN:VCALENDAR
VERSION:2.0
PRODID:-//193.239.44.119//NONSGML kigkonsult.se iCalcreator 2.20//
CALSCALE:GREGORIAN
METHOD:PUBLISH
X-WR-TIMEZONE:Europe/Warsaw
BEGIN:VEVENT
UID:event167@Parafia Rzymskokatolicka Najświętszego Serca Jezusowego w Łęcz
 u - Salezjanie
DTSTAMP:20260422T102944Z
CATEGORIES:Pogrzeb
DESCRIPTION:+ Gabriela Czaplińska\nKategoria: Pogrzeb\nLink: https://lecze-
 salezjanie.pl/index.php?option=com_jem&view=event&id=167:gabriela-czaplins
 ka\n
DTSTART;TZID=Europe/Warsaw:20220407T110000
DTEND;TZID=Europe/Warsaw:20220407T110000
LOCATION:Kościół Najświętszego Serca Jezusowego w Łęczu\,Łęcze 48\,Łęcze
SUMMARY:+ Gabriela Czaplińska
URL:https://lecze-salezjanie.pl/index.php?option=com_jem&view=event&id=167:
 gabriela-czaplinska
END:VEVENT
END:VCALENDAR