BEGIN:VCALENDAR
VERSION:2.0
PRODID:-//193.239.44.119//NONSGML kigkonsult.se iCalcreator 2.20//
CALSCALE:GREGORIAN
METHOD:PUBLISH
X-WR-TIMEZONE:Europe/Warsaw
BEGIN:VEVENT
UID:event170@Parafia Rzymskokatolicka Najświętszego Serca Jezusowego w Łęcz
 u - Salezjanie
DTSTAMP:20260420T014754Z
CATEGORIES:Msza Święta
DESCRIPTION:+ Artur Weroniecki - w 4 rocznicę śmierci\nKategoria: Msza Świę
 ta\nLink: https://lecze-salezjanie.pl/index.php?option=com_jem&view=event&
 id=170:artur-weroniecki-w-4-rocznice-smierci\n
DTSTART;TZID=Europe/Warsaw:20220410T090000
DTEND;TZID=Europe/Warsaw:20220410T090000
LOCATION:Kościół Najświętszego Serca Jezusowego w Łęczu\,Łęcze 48\,Łęcze
SUMMARY:+ Artur Weroniecki - w 4 rocznicę śmierci
URL:https://lecze-salezjanie.pl/index.php?option=com_jem&view=event&id=170:
 artur-weroniecki-w-4-rocznice-smierci
END:VEVENT
END:VCALENDAR