BEGIN:VCALENDAR
VERSION:2.0
PRODID:-//193.239.44.119//NONSGML kigkonsult.se iCalcreator 2.20//
CALSCALE:GREGORIAN
METHOD:PUBLISH
X-WR-TIMEZONE:Europe/Warsaw
BEGIN:VEVENT
UID:event174@Parafia Rzymskokatolicka Najświętszego Serca Jezusowego w Łęcz
 u - Salezjanie
DTSTAMP:20260420T035458Z
CATEGORIES:Msza Święta
DESCRIPTION:O zdrowie\, Boże Błogosławieństwo\, opiekę Matki Bożej dla Jani
 ny w dniu urodzin\nKategoria: Msza Święta\nLink: https://lecze-salezjanie.
 pl/index.php?option=com_jem&view=event&id=174:o-zdrowie-boze-blogoslawiens
 two-opieke-matki-bozej-dla-janiny-w-dniu-urodzin\n
DTSTART;TZID=Europe/Warsaw:20220413T180000
DTEND;TZID=Europe/Warsaw:20220413T180000
LOCATION:Kościół Najświętszego Serca Jezusowego w Łęczu\,Łęcze 48\,Łęcze
SUMMARY:O zdrowie\, Boże Błogosławieństwo\, opiekę Matki Bożej dla Janiny w
  dniu urodzin
URL:https://lecze-salezjanie.pl/index.php?option=com_jem&view=event&id=174:
 o-zdrowie-boze-blogoslawienstwo-opieke-matki-bozej-dla-janiny-w-dniu-urodz
 in
END:VEVENT
END:VCALENDAR