BEGIN:VCALENDAR
VERSION:2.0
PRODID:-//193.239.44.119//NONSGML kigkonsult.se iCalcreator 2.20//
CALSCALE:GREGORIAN
METHOD:PUBLISH
X-WR-TIMEZONE:Europe/Warsaw
BEGIN:VEVENT
UID:event177@Parafia Rzymskokatolicka Najświętszego Serca Jezusowego w Łęcz
 u - Salezjanie
DTSTAMP:20260420T034509Z
CATEGORIES:Msza Święta
DESCRIPTION:Liturgia Wigilii Paschalnej - Wielka Sobota\nKategoria: Msza Św
 ięta\nLink: https://lecze-salezjanie.pl/index.php?option=com_jem&view=even
 t&id=177:liturgia-wigilii-paschalnej-wielka-sobota\n
DTSTART;TZID=Europe/Warsaw:20220416T180000
DTEND;TZID=Europe/Warsaw:20220416T180000
LOCATION:Kościół Najświętszego Serca Jezusowego w Łęczu\,Łęcze 48\,Łęcze
SUMMARY:Liturgia Wigilii Paschalnej - Wielka Sobota
URL:https://lecze-salezjanie.pl/index.php?option=com_jem&view=event&id=177:
 liturgia-wigilii-paschalnej-wielka-sobota
END:VEVENT
END:VCALENDAR