BEGIN:VCALENDAR
VERSION:2.0
PRODID:-//193.239.44.119//NONSGML kigkonsult.se iCalcreator 2.20//
CALSCALE:GREGORIAN
METHOD:PUBLISH
X-WR-TIMEZONE:Europe/Warsaw
BEGIN:VEVENT
UID:event17@Parafia Rzymskokatolicka Najświętszego Serca Jezusowego w Łęczu
  - Salezjanie
DTSTAMP:20260420T070835Z
CATEGORIES:Msza Święta
DESCRIPTION:+ Leon i Mieczysława Janik\nKategoria: Msza Święta\nLink: https
 ://lecze-salezjanie.pl/index.php?option=com_jem&view=event&id=17:leon-i-mi
 eczyslawa-janik\n
DTSTART;TZID=Europe/Warsaw:20220102T120000
DTEND;TZID=Europe/Warsaw:20220102T120000
LOCATION:Kościół Najświętszego Serca Jezusowego w Łęczu\,Łęcze 48\,Łęcze
SUMMARY:+ Leon i Mieczysława Janik
URL:https://lecze-salezjanie.pl/index.php?option=com_jem&view=event&id=17:l
 eon-i-mieczyslawa-janik
END:VEVENT
END:VCALENDAR