BEGIN:VCALENDAR
VERSION:2.0
PRODID:-//193.239.44.119//NONSGML kigkonsult.se iCalcreator 2.20//
CALSCALE:GREGORIAN
METHOD:PUBLISH
X-WR-TIMEZONE:Europe/Warsaw
BEGIN:VEVENT
UID:event181@Parafia Rzymskokatolicka Najświętszego Serca Jezusowego w Łęcz
 u - Salezjanie
DTSTAMP:20260420T014518Z
CATEGORIES:Msza Święta
DESCRIPTION:+ Stanisław Kaczan\nKategoria: Msza Święta\nLink: https://lecze
 -salezjanie.pl/index.php?option=com_jem&view=event&id=181:stanislaw-kaczan
 -1\n
DTSTART;TZID=Europe/Warsaw:20220418T120000
DTEND;TZID=Europe/Warsaw:20220418T120000
LOCATION:Kościół Najświętszego Serca Jezusowego w Łęczu\,Łęcze 48\,Łęcze
SUMMARY:+ Stanisław Kaczan
URL:https://lecze-salezjanie.pl/index.php?option=com_jem&view=event&id=181:
 stanislaw-kaczan-1
END:VEVENT
END:VCALENDAR