BEGIN:VCALENDAR
VERSION:2.0
PRODID:-//193.239.44.119//NONSGML kigkonsult.se iCalcreator 2.20//
CALSCALE:GREGORIAN
METHOD:PUBLISH
X-WR-TIMEZONE:Europe/Warsaw
BEGIN:VEVENT
UID:event185@Parafia Rzymskokatolicka Najświętszego Serca Jezusowego w Łęcz
 u - Salezjanie
DTSTAMP:20260420T020721Z
CATEGORIES:Msza Święta
DESCRIPTION:Dziękczynna\, z prośbą o Boże Błogosławieństwo i opiekę Matki B
 ożej dla Anny i Roberta z okazji 30 rocznicy ślubu\nKategoria: Msza Święta
 \nLink: https://lecze-salezjanie.pl/index.php?option=com_jem&view=event&id
 =185:dziekczynna-z-prosba-o-boze-blogoslawienstwo-i-opieke-matki-bozej-dla
 -anny-i-roberta-z-okazji-30-rocznicy-slubu\n
DTSTART;TZID=Europe/Warsaw:20220424T090000
DTEND;TZID=Europe/Warsaw:20220424T090000
LOCATION:Kościół Najświętszego Serca Jezusowego w Łęczu\,Łęcze 48\,Łęcze
SUMMARY:Dziękczynna\, z prośbą o Boże Błogosławieństwo i opiekę Matki Bożej
  dla Anny i Roberta z okazji 30 rocznicy ślubu
URL:https://lecze-salezjanie.pl/index.php?option=com_jem&view=event&id=185:
 dziekczynna-z-prosba-o-boze-blogoslawienstwo-i-opieke-matki-bozej-dla-anny
 -i-roberta-z-okazji-30-rocznicy-slubu
END:VEVENT
END:VCALENDAR