BEGIN:VCALENDAR
VERSION:2.0
PRODID:-//193.239.44.119//NONSGML kigkonsult.se iCalcreator 2.20//
CALSCALE:GREGORIAN
METHOD:PUBLISH
X-WR-TIMEZONE:Europe/Warsaw
BEGIN:VEVENT
UID:event190@Parafia Rzymskokatolicka Najświętszego Serca Jezusowego w Łęcz
 u - Salezjanie
DTSTAMP:20260420T001655Z
CATEGORIES:Msza Święta
DESCRIPTION:+ Zbigniew Baranowski - w 9 rocznicę śmierci i Genowefa Baranow
 ska - w 27 rocznicę śmierci\nKategoria: Msza Święta\nLink: https://lecze-s
 alezjanie.pl/index.php?option=com_jem&view=event&id=190:zbigniew-baranowsk
 i-w-9-rocznice-smierci-i-genowefa-baranowska-w-27-rocznice-smierci\n
DTSTART;TZID=Europe/Warsaw:20220501T120000
DTEND;TZID=Europe/Warsaw:20220501T120000
LOCATION:Kościół Najświętszego Serca Jezusowego w Łęczu\,Łęcze 48\,Łęcze
SUMMARY:+ Zbigniew Baranowski - w 9 rocznicę śmierci i Genowefa Baranowska 
 - w 27 rocznicę śmierci
URL:https://lecze-salezjanie.pl/index.php?option=com_jem&view=event&id=190:
 zbigniew-baranowski-w-9-rocznice-smierci-i-genowefa-baranowska-w-27-roczni
 ce-smierci
END:VEVENT
END:VCALENDAR