BEGIN:VCALENDAR
VERSION:2.0
PRODID:-//193.239.44.119//NONSGML kigkonsult.se iCalcreator 2.20//
CALSCALE:GREGORIAN
METHOD:PUBLISH
X-WR-TIMEZONE:Europe/Warsaw
BEGIN:VEVENT
UID:event193@Parafia Rzymskokatolicka Najświętszego Serca Jezusowego w Łęcz
 u - Salezjanie
DTSTAMP:20260420T015059Z
CATEGORIES:Spotkanie
DESCRIPTION:Próba przed Pierwszą Komunią świętą\nKategoria: Spotkanie\nLink
 : https://lecze-salezjanie.pl/index.php?option=com_jem&view=event&id=193:p
 roba-przed-pierwsza-komunia-swieta\n
DTSTART;TZID=Europe/Warsaw:20220504T183000
DTEND;TZID=Europe/Warsaw:20220504T183000
LOCATION:Kościół Najświętszego Serca Jezusowego w Łęczu\,Łęcze 48\,Łęcze
SUMMARY:Próba przed Pierwszą Komunią świętą
URL:https://lecze-salezjanie.pl/index.php?option=com_jem&view=event&id=193:
 proba-przed-pierwsza-komunia-swieta
END:VEVENT
END:VCALENDAR