BEGIN:VCALENDAR
VERSION:2.0
PRODID:-//193.239.44.119//NONSGML kigkonsult.se iCalcreator 2.20//
CALSCALE:GREGORIAN
METHOD:PUBLISH
X-WR-TIMEZONE:Europe/Warsaw
BEGIN:VEVENT
UID:event210@Parafia Rzymskokatolicka Najświętszego Serca Jezusowego w Łęcz
 u - Salezjanie
DTSTAMP:20260420T001117Z
CATEGORIES:Msza Święta
DESCRIPTION:I Komunia święta\nKategoria: Msza Święta\nLink: https://lecze-s
 alezjanie.pl/index.php?option=com_jem&view=event&id=210:i-komunia-swieta\n
DTSTART;TZID=Europe/Warsaw:20220521T110000
DTEND;TZID=Europe/Warsaw:20220521T110000
LOCATION:Kościół Najświętszego Serca Jezusowego w Łęczu\,Łęcze 48\,Łęcze
SUMMARY:I Komunia święta
URL:https://lecze-salezjanie.pl/index.php?option=com_jem&view=event&id=210:
 i-komunia-swieta
END:VEVENT
END:VCALENDAR