BEGIN:VCALENDAR
VERSION:2.0
PRODID:-//193.239.44.119//NONSGML kigkonsult.se iCalcreator 2.20//
CALSCALE:GREGORIAN
METHOD:PUBLISH
X-WR-TIMEZONE:Europe/Warsaw
BEGIN:VEVENT
UID:event212@Parafia Rzymskokatolicka Najświętszego Serca Jezusowego w Łęcz
 u - Salezjanie
DTSTAMP:20260420T001443Z
CATEGORIES:Msza Święta
DESCRIPTION:+ Halina Wojtowicz - w 3 rocznicę śmierci\nKategoria: Msza Świę
 ta\nLink: https://lecze-salezjanie.pl/index.php?option=com_jem&view=event&
 id=212:halina-wojtowicz-w-3-rocznice-smierci\n
DTSTART;TZID=Europe/Warsaw:20220522T120000
DTEND;TZID=Europe/Warsaw:20220522T120000
LOCATION:Kościół Najświętszego Serca Jezusowego w Łęczu\,Łęcze 48\,Łęcze
SUMMARY:+ Halina Wojtowicz - w 3 rocznicę śmierci
URL:https://lecze-salezjanie.pl/index.php?option=com_jem&view=event&id=212:
 halina-wojtowicz-w-3-rocznice-smierci
END:VEVENT
END:VCALENDAR