BEGIN:VCALENDAR
VERSION:2.0
PRODID:-//193.239.44.119//NONSGML kigkonsult.se iCalcreator 2.20//
CALSCALE:GREGORIAN
METHOD:PUBLISH
X-WR-TIMEZONE:Europe/Warsaw
BEGIN:VEVENT
UID:event219@Parafia Rzymskokatolicka Najświętszego Serca Jezusowego w Łęcz
 u - Salezjanie
DTSTAMP:20260420T001117Z
CATEGORIES:Msza Święta
DESCRIPTION:+ Hanna Kostiów\nKategoria: Msza Święta\nLink: https://lecze-sa
 lezjanie.pl/index.php?option=com_jem&view=event&id=219:hanna-kostiow\n
DTSTART;TZID=Europe/Warsaw:20220529T090000
DTEND;TZID=Europe/Warsaw:20220529T090000
LOCATION:Kościół Najświętszego Serca Jezusowego w Łęczu\,Łęcze 48\,Łęcze
SUMMARY:+ Hanna Kostiów
URL:https://lecze-salezjanie.pl/index.php?option=com_jem&view=event&id=219:
 hanna-kostiow
END:VEVENT
END:VCALENDAR