BEGIN:VCALENDAR
VERSION:2.0
PRODID:-//193.239.44.119//NONSGML kigkonsult.se iCalcreator 2.20//
CALSCALE:GREGORIAN
METHOD:PUBLISH
X-WR-TIMEZONE:Europe/Warsaw
BEGIN:VEVENT
UID:event228@Parafia Rzymskokatolicka Najświętszego Serca Jezusowego w Łęcz
 u - Salezjanie
DTSTAMP:20260419T221505Z
CATEGORIES:Msza Święta
DESCRIPTION:+ Teresa Paliwoda - Msza święta Gregoriańska (6)\nKategoria: Ms
 za Święta\nLink: https://lecze-salezjanie.pl/index.php?option=com_jem&view
 =event&id=228:teresa-paliwoda-msza-swieta-gregorianska-6\n
DTSTART;TZID=Europe/Warsaw:20220606T180000
DTEND;TZID=Europe/Warsaw:20220606T180000
LOCATION:Kościół Najświętszego Serca Jezusowego w Łęczu\,Łęcze 48\,Łęcze
SUMMARY:+ Teresa Paliwoda - Msza święta Gregoriańska (6)
URL:https://lecze-salezjanie.pl/index.php?option=com_jem&view=event&id=228:
 teresa-paliwoda-msza-swieta-gregorianska-6
END:VEVENT
END:VCALENDAR