BEGIN:VCALENDAR
VERSION:2.0
PRODID:-//193.239.44.119//NONSGML kigkonsult.se iCalcreator 2.20//
CALSCALE:GREGORIAN
METHOD:PUBLISH
X-WR-TIMEZONE:Europe/Warsaw
BEGIN:VEVENT
UID:event22@Parafia Rzymskokatolicka Najświętszego Serca Jezusowego w Łęczu
  - Salezjanie
DTSTAMP:20260420T064914Z
CATEGORIES:Msza Święta
DESCRIPTION:Za Parafian\nKategoria: Msza Święta\nLink: https://lecze-salezj
 anie.pl/index.php?option=com_jem&view=event&id=22:za-parafian\n
DTSTART;TZID=Europe/Warsaw:20220105T180000
DTEND;TZID=Europe/Warsaw:20220105T180000
LOCATION:Kościół Najświętszego Serca Jezusowego w Łęczu\,Łęcze 48\,Łęcze
SUMMARY:Za Parafian
URL:https://lecze-salezjanie.pl/index.php?option=com_jem&view=event&id=22:z
 a-parafian
END:VEVENT
END:VCALENDAR