BEGIN:VCALENDAR
VERSION:2.0
PRODID:-//193.239.44.119//NONSGML kigkonsult.se iCalcreator 2.20//
CALSCALE:GREGORIAN
METHOD:PUBLISH
X-WR-TIMEZONE:Europe/Warsaw
BEGIN:VEVENT
UID:event234@Parafia Rzymskokatolicka Najświętszego Serca Jezusowego w Łęcz
 u - Salezjanie
DTSTAMP:20260419T221008Z
CATEGORIES:Ślub
DESCRIPTION:Klara Filip i Michał Piotrowski\nKategoria: Ślub\nLink: https:/
 /lecze-salezjanie.pl/index.php?option=com_jem&view=event&id=234:klara-fili
 p-i-michal-piotrowski\n
DTSTART;TZID=Europe/Warsaw:20220611T160000
DTEND;TZID=Europe/Warsaw:20220611T160000
LOCATION:Kościół Najświętszego Serca Jezusowego w Łęczu\,Łęcze 48\,Łęcze
SUMMARY:Klara Filip i Michał Piotrowski
URL:https://lecze-salezjanie.pl/index.php?option=com_jem&view=event&id=234:
 klara-filip-i-michal-piotrowski
END:VEVENT
END:VCALENDAR