BEGIN:VCALENDAR
VERSION:2.0
PRODID:-//193.239.44.119//NONSGML kigkonsult.se iCalcreator 2.20//
CALSCALE:GREGORIAN
METHOD:PUBLISH
X-WR-TIMEZONE:Europe/Warsaw
BEGIN:VEVENT
UID:event237@Parafia Rzymskokatolicka Najświętszego Serca Jezusowego w Łęcz
 u - Salezjanie
DTSTAMP:20260419T223328Z
CATEGORIES:Msza Święta
DESCRIPTION:O dary Bożej Miłości\, zdrowie\, opiekę Matki Bożej dla Janiny 
 z okazji imienin\nKategoria: Msza Święta\nLink: https://lecze-salezjanie.p
 l/index.php?option=com_jem&view=event&id=237:o-dary-bozej-milosci-zdrowie-
 opieke-matki-bozej-dla-janiny-z-okazji-imienin\n
DTSTART;TZID=Europe/Warsaw:20220613T180000
DTEND;TZID=Europe/Warsaw:20220613T180000
LOCATION:Kościół Najświętszego Serca Jezusowego w Łęczu\,Łęcze 48\,Łęcze
SUMMARY:O dary Bożej Miłości\, zdrowie\, opiekę Matki Bożej dla Janiny z ok
 azji imienin
URL:https://lecze-salezjanie.pl/index.php?option=com_jem&view=event&id=237:
 o-dary-bozej-milosci-zdrowie-opieke-matki-bozej-dla-janiny-z-okazji-imieni
 n
END:VEVENT
END:VCALENDAR