BEGIN:VCALENDAR
VERSION:2.0
PRODID:-//193.239.44.119//NONSGML kigkonsult.se iCalcreator 2.20//
CALSCALE:GREGORIAN
METHOD:PUBLISH
X-WR-TIMEZONE:Europe/Warsaw
BEGIN:VEVENT
UID:event243@Parafia Rzymskokatolicka Najświętszego Serca Jezusowego w Łęcz
 u - Salezjanie
DTSTAMP:20260419T223244Z
CATEGORIES:Msza Święta
DESCRIPTION:+ Władysław Kwaśny i zmarli rodzice z obojga stron\, zmarłe rod
 zeństwo\nKategoria: Msza Święta\nLink: https://lecze-salezjanie.pl/index.p
 hp?option=com_jem&view=event&id=243:wladyslaw-kwasny-i-zmarli-rodzice-z-ob
 ojga-stron-zmarle-rodzenstwo\n
DTSTART;TZID=Europe/Warsaw:20220618T180000
DTEND;TZID=Europe/Warsaw:20220618T180000
LOCATION:Kościół Najświętszego Serca Jezusowego w Łęczu\,Łęcze 48\,Łęcze
SUMMARY:+ Władysław Kwaśny i zmarli rodzice z obojga stron\, zmarłe rodzeńs
 two
URL:https://lecze-salezjanie.pl/index.php?option=com_jem&view=event&id=243:
 wladyslaw-kwasny-i-zmarli-rodzice-z-obojga-stron-zmarle-rodzenstwo
END:VEVENT
END:VCALENDAR