BEGIN:VCALENDAR
VERSION:2.0
PRODID:-//193.239.44.119//NONSGML kigkonsult.se iCalcreator 2.20//
CALSCALE:GREGORIAN
METHOD:PUBLISH
X-WR-TIMEZONE:Europe/Warsaw
BEGIN:VEVENT
UID:event24@Parafia Rzymskokatolicka Najświętszego Serca Jezusowego w Łęczu
  - Salezjanie
DTSTAMP:20260420T065546Z
CATEGORIES:Msza Święta
DESCRIPTION:Mieczysław Banaś - w 13 rocznicę śmierci raz zmarłych rodziców 
 Przeradzkich i Banasiów\nKategoria: Msza Święta\nLink: https://lecze-salez
 janie.pl/index.php?option=com_jem&view=event&id=24:mieczyslaw-banas-w-13-r
 ocznice-smierci-raz-zmarlych-rodzicow-przeradzkich-i-banasiow\n
DTSTART;TZID=Europe/Warsaw:20220106T120000
DTEND;TZID=Europe/Warsaw:20220106T120000
LOCATION:Kościół Najświętszego Serca Jezusowego w Łęczu\,Łęcze 48\,Łęcze
SUMMARY:Mieczysław Banaś - w 13 rocznicę śmierci raz zmarłych rodziców Prze
 radzkich i Banasiów
URL:https://lecze-salezjanie.pl/index.php?option=com_jem&view=event&id=24:m
 ieczyslaw-banas-w-13-rocznice-smierci-raz-zmarlych-rodzicow-przeradzkich-i
 -banasiow
END:VEVENT
END:VCALENDAR