BEGIN:VCALENDAR
VERSION:2.0
PRODID:-//193.239.44.119//NONSGML kigkonsult.se iCalcreator 2.20//
CALSCALE:GREGORIAN
METHOD:PUBLISH
X-WR-TIMEZONE:Europe/Warsaw
BEGIN:VEVENT
UID:event255@Parafia Rzymskokatolicka Najświętszego Serca Jezusowego w Łęcz
 u - Salezjanie
DTSTAMP:20260419T223119Z
CATEGORIES:Msza Święta
DESCRIPTION:+ Edmund\, Marianna Zalewscy\, Ludwik Górski\nKategoria: Msza Ś
 więta\nLink: https://lecze-salezjanie.pl/index.php?option=com_jem&view=eve
 nt&id=255:edmund-marianna-zalewscy-ludwik-gorski\n
DTSTART;TZID=Europe/Warsaw:20220625T180000
DTEND;TZID=Europe/Warsaw:20220625T180000
LOCATION:Kościół Najświętszego Serca Jezusowego w Łęczu\,Łęcze 48\,Łęcze
SUMMARY:+ Edmund\, Marianna Zalewscy\, Ludwik Górski
URL:https://lecze-salezjanie.pl/index.php?option=com_jem&view=event&id=255:
 edmund-marianna-zalewscy-ludwik-gorski
END:VEVENT
END:VCALENDAR