BEGIN:VCALENDAR
VERSION:2.0
PRODID:-//193.239.44.119//NONSGML kigkonsult.se iCalcreator 2.20//
CALSCALE:GREGORIAN
METHOD:PUBLISH
X-WR-TIMEZONE:Europe/Warsaw
BEGIN:VEVENT
UID:event261@Parafia Rzymskokatolicka Najświętszego Serca Jezusowego w Łęcz
 u - Salezjanie
DTSTAMP:20260419T221046Z
CATEGORIES:Msza Święta
DESCRIPTION:+ Teresa Paliwoda - Msza święta Gregoriańska (30)\nKategoria: M
 sza Święta\nLink: https://lecze-salezjanie.pl/index.php?option=com_jem&vie
 w=event&id=261:teresa-paliwoda-msza-swieta-gregorianska-30\n
DTSTART;TZID=Europe/Warsaw:20220630T170000
DTEND;TZID=Europe/Warsaw:20220630T170000
LOCATION:Kościół Maryi Wspomożycielki Wiernych w Suchaczu\,Kielecka 12B\,Su
 chacz
SUMMARY:+ Teresa Paliwoda - Msza święta Gregoriańska (30)
URL:https://lecze-salezjanie.pl/index.php?option=com_jem&view=event&id=261:
 teresa-paliwoda-msza-swieta-gregorianska-30
END:VEVENT
END:VCALENDAR