BEGIN:VCALENDAR
VERSION:2.0
PRODID:-//193.239.44.119//NONSGML kigkonsult.se iCalcreator 2.20//
CALSCALE:GREGORIAN
METHOD:PUBLISH
X-WR-TIMEZONE:Europe/Warsaw
BEGIN:VEVENT
UID:event263@Parafia Rzymskokatolicka Najświętszego Serca Jezusowego w Łęcz
 u - Salezjanie
DTSTAMP:20260419T203228Z
CATEGORIES:Msza Święta
DESCRIPTION:+ Mikołaj Dołgoruki i zmarli z rodziny Dołgorukich i Downarów\n
 Kategoria: Msza Święta\nLink: https://lecze-salezjanie.pl/index.php?option
 =com_jem&view=event&id=263:mikolaj-dolgoruki-i-zmarli-z-rodziny-dolgorukic
 h-i-downarow\n
DTSTART;TZID=Europe/Warsaw:20220703T090000
DTEND;TZID=Europe/Warsaw:20220703T090000
LOCATION:Kościół Najświętszego Serca Jezusowego w Łęczu\,Łęcze 48\,Łęcze
SUMMARY:+ Mikołaj Dołgoruki i zmarli z rodziny Dołgorukich i Downarów
URL:https://lecze-salezjanie.pl/index.php?option=com_jem&view=event&id=263:
 mikolaj-dolgoruki-i-zmarli-z-rodziny-dolgorukich-i-downarow
END:VEVENT
END:VCALENDAR