BEGIN:VCALENDAR
VERSION:2.0
PRODID:-//193.239.44.119//NONSGML kigkonsult.se iCalcreator 2.20//
CALSCALE:GREGORIAN
METHOD:PUBLISH
X-WR-TIMEZONE:Europe/Warsaw
BEGIN:VEVENT
UID:event266@Parafia Rzymskokatolicka Najświętszego Serca Jezusowego w Łęcz
 u - Salezjanie
DTSTAMP:20260419T204720Z
CATEGORIES:Msza Święta
DESCRIPTION:+ Gabriela i Wacław Gawrońscy i wszystkich zmarłych z obydwu st
 ron\nKategoria: Msza Święta\nLink: https://lecze-salezjanie.pl/index.php?o
 ption=com_jem&view=event&id=266:gabriela-i-waclaw-gawronscy-i-wszystkich-z
 marlych-z-obydwu-stron\n
DTSTART;TZID=Europe/Warsaw:20220710T090000
DTEND;TZID=Europe/Warsaw:20220710T090000
LOCATION:Kościół Najświętszego Serca Jezusowego w Łęczu\,Łęcze 48\,Łęcze
SUMMARY:+ Gabriela i Wacław Gawrońscy i wszystkich zmarłych z obydwu stron
URL:https://lecze-salezjanie.pl/index.php?option=com_jem&view=event&id=266:
 gabriela-i-waclaw-gawronscy-i-wszystkich-zmarlych-z-obydwu-stron
END:VEVENT
END:VCALENDAR