BEGIN:VCALENDAR
VERSION:2.0
PRODID:-//193.239.44.119//NONSGML kigkonsult.se iCalcreator 2.20//
CALSCALE:GREGORIAN
METHOD:PUBLISH
X-WR-TIMEZONE:Europe/Warsaw
BEGIN:VEVENT
UID:event267@Parafia Rzymskokatolicka Najświętszego Serca Jezusowego w Łęcz
 u - Salezjanie
DTSTAMP:20260419T204720Z
CATEGORIES:Msza Święta
DESCRIPTION:+ Leon Banaszek - w 37 rocznicę śmierci oraz Henryka i wszyscy 
 zmarli z rodziny Banaszków\nKategoria: Msza Święta\nLink: https://lecze-sa
 lezjanie.pl/index.php?option=com_jem&view=event&id=267:leon-banaszek-w-37-
 rocznice-smierci-oraz-henryka-i-wszyscy-zmarli-z-rodziny-banaszkow\n
DTSTART;TZID=Europe/Warsaw:20220710T120000
DTEND;TZID=Europe/Warsaw:20220710T120000
LOCATION:Kościół Najświętszego Serca Jezusowego w Łęczu\,Łęcze 48\,Łęcze
SUMMARY:+ Leon Banaszek - w 37 rocznicę śmierci oraz Henryka i wszyscy zmar
 li z rodziny Banaszków
URL:https://lecze-salezjanie.pl/index.php?option=com_jem&view=event&id=267:
 leon-banaszek-w-37-rocznice-smierci-oraz-henryka-i-wszyscy-zmarli-z-rodzin
 y-banaszkow
END:VEVENT
END:VCALENDAR