BEGIN:VCALENDAR
VERSION:2.0
PRODID:-//193.239.44.119//NONSGML kigkonsult.se iCalcreator 2.20//
CALSCALE:GREGORIAN
METHOD:PUBLISH
X-WR-TIMEZONE:Europe/Warsaw
BEGIN:VEVENT
UID:event271@Parafia Rzymskokatolicka Najświętszego Serca Jezusowego w Łęcz
 u - Salezjanie
DTSTAMP:20260419T203551Z
CATEGORIES:Msza Święta
DESCRIPTION:O dary Bożej Miłości\, zdrowie\, nieustanną opiekę Matki Bożej 
 dla Anny Pankiewicz\nKategoria: Msza Święta\nLink: https://lecze-salezjani
 e.pl/index.php?option=com_jem&view=event&id=271:o-dary-bozej-milosci-zdrow
 ie-nieustanna-opieke-matki-bozej-dla-anny-pankiewicz\n
DTSTART;TZID=Europe/Warsaw:20220725T180000
DTEND;TZID=Europe/Warsaw:20220725T180000
LOCATION:Kościół Najświętszego Serca Jezusowego w Łęczu\,Łęcze 48\,Łęcze
SUMMARY:O dary Bożej Miłości\, zdrowie\, nieustanną opiekę Matki Bożej dla 
 Anny Pankiewicz
URL:https://lecze-salezjanie.pl/index.php?option=com_jem&view=event&id=271:
 o-dary-bozej-milosci-zdrowie-nieustanna-opieke-matki-bozej-dla-anny-pankie
 wicz
END:VEVENT
END:VCALENDAR