BEGIN:VCALENDAR
VERSION:2.0
PRODID:-//193.239.44.119//NONSGML kigkonsult.se iCalcreator 2.20//
CALSCALE:GREGORIAN
METHOD:PUBLISH
X-WR-TIMEZONE:Europe/Warsaw
BEGIN:VEVENT
UID:event275@Parafia Rzymskokatolicka Najświętszego Serca Jezusowego w Łęcz
 u - Salezjanie
DTSTAMP:20260419T203555Z
CATEGORIES:Msza Święta
DESCRIPTION:+ Kazimierz Machciński - w 40 rocznicę śmierci\, Apolonia Machc
 ińska\, Natalia i Jan Madej oraz Irena Listkowska\nKategoria: Msza Święta
 \nLink: https://lecze-salezjanie.pl/index.php?option=com_jem&view=event&id
 =275:kazimierz-machcinski-w-40-rocznice-smierci-apolonia-machcinska-natali
 a-i-jan-madej-oraz-irena-listkowska\n
DTSTART;TZID=Europe/Warsaw:20220731T090000
DTEND;TZID=Europe/Warsaw:20220731T090000
LOCATION:Kościół Najświętszego Serca Jezusowego w Łęczu\,Łęcze 48\,Łęcze
SUMMARY:+ Kazimierz Machciński - w 40 rocznicę śmierci\, Apolonia Machcińsk
 a\, Natalia i Jan Madej oraz Irena Listkowska
URL:https://lecze-salezjanie.pl/index.php?option=com_jem&view=event&id=275:
 kazimierz-machcinski-w-40-rocznice-smierci-apolonia-machcinska-natalia-i-j
 an-madej-oraz-irena-listkowska
END:VEVENT
END:VCALENDAR